BEGIN:VCALENDAR
VERSION:2.0
PRODID:-//Rodel- und Bobsportverband Sachsen-Anhalt e.V. - ECPv6.15.20//NONSGML v1.0//EN
CALSCALE:GREGORIAN
METHOD:PUBLISH
X-WR-CALNAME:Rodel- und Bobsportverband Sachsen-Anhalt e.V.
X-ORIGINAL-URL:https://www.rbsv-sachsen-anhalt.de
X-WR-CALDESC:Veranstaltungen für Rodel- und Bobsportverband Sachsen-Anhalt e.V.
REFRESH-INTERVAL;VALUE=DURATION:PT1H
X-Robots-Tag:noindex
X-PUBLISHED-TTL:PT1H
BEGIN:VTIMEZONE
TZID:Europe/Berlin
BEGIN:DAYLIGHT
TZOFFSETFROM:+0100
TZOFFSETTO:+0200
TZNAME:CEST
DTSTART:20250330T010000
END:DAYLIGHT
BEGIN:STANDARD
TZOFFSETFROM:+0200
TZOFFSETTO:+0100
TZNAME:CET
DTSTART:20251026T010000
END:STANDARD
BEGIN:DAYLIGHT
TZOFFSETFROM:+0100
TZOFFSETTO:+0200
TZNAME:CEST
DTSTART:20260329T010000
END:DAYLIGHT
BEGIN:STANDARD
TZOFFSETFROM:+0200
TZOFFSETTO:+0100
TZNAME:CET
DTSTART:20261025T010000
END:STANDARD
BEGIN:DAYLIGHT
TZOFFSETFROM:+0100
TZOFFSETTO:+0200
TZNAME:CEST
DTSTART:20270328T010000
END:DAYLIGHT
BEGIN:STANDARD
TZOFFSETFROM:+0200
TZOFFSETTO:+0100
TZNAME:CET
DTSTART:20271031T010000
END:STANDARD
END:VTIMEZONE
BEGIN:VEVENT
DTSTART;TZID=Europe/Berlin:20260703T160000
DTEND;TZID=Europe/Berlin:20260703T160000
DTSTAMP:20260424T054138
CREATED:20260104T180954Z
LAST-MODIFIED:20260104T181008Z
UID:1627-1783094400-1783094400@www.rbsv-sachsen-anhalt.de
SUMMARY:Präsidiumssitzung und Empfang des RBSV S-A
DESCRIPTION:
URL:https://www.rbsv-sachsen-anhalt.de/event/praesidiumssitzung-un-d-empfang-des-rbsv-s-a/
LOCATION:Schierke
CATEGORIES:Verband
END:VEVENT
END:VCALENDAR